BEGIN:VCALENDAR
PRODID:-//spiritec//spiritec media library//EN
VERSION:2.0
METHOD:PUBLISH
BEGIN:VEVENT
UID:ical-2025-09-19-2493
DTSTART:20250919T173000Z
DTSTAMP:20260425T143056Z
LOCATION:Kleines Haus
SUMMARY:Romeo und Julia
DESCRIPTION:Mainfranken Theater Würzburg\nKleines Haus\nTheaterstraße 21\n97070 Würzburg
CREATED:20260425T143056Z
DTEND:20250919T200500Z
END:VEVENT
END:VCALENDAR
