BEGIN:VCALENDAR
PRODID:-//spiritec//spiritec media library//EN
VERSION:2.0
METHOD:PUBLISH
BEGIN:VEVENT
UID:ical-2025-10-09-2505
DTSTART:20251009T173000Z
DTSTAMP:20260423T052103Z
LOCATION:Kleines Haus
SUMMARY:Der Fiskus
DESCRIPTION:Mainfranken Theater Würzburg\nKleines Haus\nTheaterstraße 21\n97070 Würzburg
CREATED:20260423T052103Z
DTEND:20251009T191500Z
END:VEVENT
END:VCALENDAR
