BEGIN:VCALENDAR
PRODID:-//spiritec//spiritec media library//EN
VERSION:2.0
METHOD:PUBLISH
BEGIN:VEVENT
UID:ical-2025-10-10-2506
DTSTART:20251010T173000Z
DTSTAMP:20260423T002441Z
LOCATION:Kleines Haus
SUMMARY:Der Fiskus
DESCRIPTION:Mainfranken Theater Würzburg\nKleines Haus\nTheaterstraße 21\n97070 Würzburg
CREATED:20260423T002441Z
DTEND:20251010T191500Z
END:VEVENT
END:VCALENDAR
