BEGIN:VCALENDAR
PRODID:-//spiritec//spiritec media library//EN
VERSION:2.0
METHOD:PUBLISH
BEGIN:VEVENT
UID:ical-2025-10-12-2509
DTSTART:20251012T080000Z
DTSTAMP:20260423T034632Z
LOCATION:Eingangsfoyer
SUMMARY:Babykonzerte
DESCRIPTION:
CREATED:20260423T034632Z
DTEND:20251012T084500Z
END:VEVENT
END:VCALENDAR
