BEGIN:VCALENDAR
PRODID:-//spiritec//spiritec media library//EN
VERSION:2.0
METHOD:PUBLISH
BEGIN:VEVENT
UID:ical-2025-10-12-2510
DTSTART:20251012T100000Z
DTSTAMP:20260420T163123Z
LOCATION:Eingangsfoyer
SUMMARY:Babykonzerte
DESCRIPTION:
CREATED:20260420T163123Z
DTEND:20251012T104500Z
END:VEVENT
END:VCALENDAR
