BEGIN:VCALENDAR
PRODID:-//spiritec//spiritec media library//EN
VERSION:2.0
METHOD:PUBLISH
BEGIN:VEVENT
UID:ical-2025-10-14-2512
DTSTART:20251014T173000Z
DTSTAMP:20260420T173913Z
LOCATION:Kleines Haus
SUMMARY:Romeo und Julia
DESCRIPTION:Mainfranken Theater Würzburg\nKleines Haus\nTheaterstraße 21\n97070 Würzburg
CREATED:20260420T173913Z
DTEND:20251014T200500Z
END:VEVENT
END:VCALENDAR
