BEGIN:VCALENDAR
PRODID:-//spiritec//spiritec media library//EN
VERSION:2.0
METHOD:PUBLISH
BEGIN:VEVENT
UID:ical-2025-10-17-2514
DTSTART:20251017T173000Z
DTSTAMP:20260420T223231Z
LOCATION:Kleines Haus
SUMMARY:Der Fiskus
DESCRIPTION:Mainfranken Theater Würzburg\nKleines Haus\nTheaterstraße 21\n97070 Würzburg
CREATED:20260420T223231Z
DTEND:20251017T191500Z
END:VEVENT
END:VCALENDAR
