BEGIN:VCALENDAR
PRODID:-//spiritec//spiritec media library//EN
VERSION:2.0
METHOD:PUBLISH
BEGIN:VEVENT
UID:ical-2025-10-18-2515
DTSTART:20251018T173000Z
DTSTAMP:20260420T024102Z
LOCATION:Theaterfabrik Blaue Halle
SUMMARY:Eros
DESCRIPTION:Theaterfabrik Blaue Halle\nc/o va-Q-tec AG\nAlfred-Nobel-Straße 33\n97080 Würzburg
CREATED:20260420T024102Z
DTEND:20251018T191500Z
END:VEVENT
END:VCALENDAR
