BEGIN:VCALENDAR
PRODID:-//spiritec//spiritec media library//EN
VERSION:2.0
METHOD:PUBLISH
BEGIN:VEVENT
UID:ical-2025-10-19-2517
DTSTART:20251019T160000Z
DTSTAMP:20260419T221656Z
LOCATION:Probebühne
SUMMARY:Drei Mal Leben
DESCRIPTION:Mainfranken Theater Würzburg\nProbebühne\nTheaterstraße 21\n97070 Würzburg
CREATED:20260419T221656Z
DTEND:20251019T171500Z
END:VEVENT
END:VCALENDAR
