BEGIN:VCALENDAR
PRODID:-//spiritec//spiritec media library//EN
VERSION:2.0
METHOD:PUBLISH
BEGIN:VEVENT
UID:ical-2025-10-21-2519
DTSTART:20251021T173000Z
DTSTAMP:20260421T232449Z
LOCATION:Kleines Haus
SUMMARY:Romeo und Julia
DESCRIPTION:Mainfranken Theater Würzburg\nKleines Haus\nTheaterstraße 21\n97070 Würzburg
CREATED:20260421T232449Z
DTEND:20251021T200500Z
END:VEVENT
END:VCALENDAR
