BEGIN:VCALENDAR
PRODID:-//spiritec//spiritec media library//EN
VERSION:2.0
METHOD:PUBLISH
BEGIN:VEVENT
UID:ical-2025-10-26-2522
DTSTART:20251026T100000Z
DTSTAMP:20260424T020404Z
LOCATION:Kleines Haus
SUMMARY:1. Familienkonzert
DESCRIPTION:Mainfranken Theater Würzburg\nKleines Haus\nTheaterstraße 21\n97070 Würzburg
CREATED:20260424T020404Z
DTEND:20251026T110000Z
END:VEVENT
END:VCALENDAR
