BEGIN:VCALENDAR
PRODID:-//spiritec//spiritec media library//EN
VERSION:2.0
METHOD:PUBLISH
BEGIN:VEVENT
UID:ical-2025-10-26-2523
DTSTART:20251026T170000Z
DTSTAMP:20260419T150152Z
LOCATION:Probebühne
SUMMARY:Drei Mal Leben
DESCRIPTION:Mainfranken Theater Würzburg\nProbebühne\nTheaterstraße 21\n97070 Würzburg
CREATED:20260419T150152Z
DTEND:20251026T181500Z
END:VEVENT
END:VCALENDAR
