BEGIN:VCALENDAR
PRODID:-//spiritec//spiritec media library//EN
VERSION:2.0
METHOD:PUBLISH
BEGIN:VEVENT
UID:ical-2025-10-26-2524
DTSTART:20251026T170000Z
DTSTAMP:20260421T043339Z
LOCATION:Theaterfabrik Blaue Halle
SUMMARY:Carmen
DESCRIPTION:Theaterfabrik Blaue Halle\nc/o va-Q-tec AG\nAlfred-Nobel-Straße 33\n97080 Würzburg
CREATED:20260421T043339Z
DTEND:20251026T200000Z
END:VEVENT
END:VCALENDAR
