BEGIN:VCALENDAR
PRODID:-//spiritec//spiritec media library//EN
VERSION:2.0
METHOD:PUBLISH
BEGIN:VEVENT
UID:ical-2025-10-30-2529
DTSTART:20251030T190000Z
DTSTAMP:20260423T064158Z
LOCATION:Großer Saal der Hochschule für Musik
SUMMARY:1. Sinfoniekonzert
DESCRIPTION:Hochschule für Musik\nHofstallstraße 6-8\n97070 Würzburg
CREATED:20260423T064158Z
DTEND:20251030T225900Z
END:VEVENT
END:VCALENDAR
