BEGIN:VCALENDAR
PRODID:-//spiritec//spiritec media library//EN
VERSION:2.0
METHOD:PUBLISH
BEGIN:VEVENT
UID:ical-2025-11-09-2539
DTSTART:20251109T100000Z
DTSTAMP:20260423T081118Z
LOCATION:Kammermusiksaal der Hochschule für Musik
SUMMARY:1. Kammerkonzert
DESCRIPTION:Kammermusiksaal der Hochschule für Musik\nHofstraße 13\n97070 Würzburg
CREATED:20260423T081118Z
DTEND:20251109T225900Z
END:VEVENT
END:VCALENDAR
