BEGIN:VCALENDAR
PRODID:-//spiritec//spiritec media library//EN
VERSION:2.0
METHOD:PUBLISH
BEGIN:VEVENT
UID:ical-2025-11-23-2554
DTSTART:20251123T140000Z
DTSTAMP:20260423T023613Z
LOCATION:Kleines Haus
SUMMARY:Momo
DESCRIPTION:Mainfranken Theater Würzburg\nKleines Haus\nTheaterstraße 21\n97070 Würzburg
CREATED:20260423T023613Z
DTEND:20251123T151000Z
END:VEVENT
END:VCALENDAR
