BEGIN:VCALENDAR
PRODID:-//spiritec//spiritec media library//EN
VERSION:2.0
METHOD:PUBLISH
BEGIN:VEVENT
UID:ical-2025-12-02-2570
DTSTART:20251202T080000Z
DTSTAMP:20260420T043020Z
LOCATION:Kleines Haus
SUMMARY:Momo
DESCRIPTION:Mainfranken Theater Würzburg\nKleines Haus\nTheaterstraße 21\n97070 Würzburg
CREATED:20260420T043020Z
DTEND:20251202T091000Z
END:VEVENT
END:VCALENDAR
