BEGIN:VCALENDAR
PRODID:-//spiritec//spiritec media library//EN
VERSION:2.0
METHOD:PUBLISH
BEGIN:VEVENT
UID:ical-2025-12-05-2581
DTSTART:20251205T183000Z
DTSTAMP:20260422T203329Z
LOCATION:Theaterfabrik Blaue Halle
SUMMARY:Weihnachtskonzert
DESCRIPTION:Theaterfabrik Blaue Halle\nc/o va-Q-tec AG\nAlfred-Nobel-Straße 33\n97080 Würzburg
CREATED:20260422T203329Z
DTEND:20251205T202000Z
END:VEVENT
END:VCALENDAR
