BEGIN:VCALENDAR
PRODID:-//spiritec//spiritec media library//EN
VERSION:2.0
METHOD:PUBLISH
BEGIN:VEVENT
UID:ical-2025-12-06-2582
DTSTART:20251206T150000Z
DTSTAMP:20260423T035324Z
LOCATION:Theaterfabrik Blaue Halle
SUMMARY:2. Familienkonzert
DESCRIPTION:Theaterfabrik Blaue Halle\nc/o va-Q-tec AG\nAlfred-Nobel-Straße 33\n97080 Würzburg
CREATED:20260423T035324Z
DTEND:20251206T160000Z
END:VEVENT
END:VCALENDAR
