BEGIN:VCALENDAR
PRODID:-//spiritec//spiritec media library//EN
VERSION:2.0
METHOD:PUBLISH
BEGIN:VEVENT
UID:ical-2025-12-14-2600
DTSTART:20251214T110000Z
DTSTAMP:20260423T144515Z
LOCATION:Eingangsfoyer
SUMMARY:Babykonzert
DESCRIPTION:
CREATED:20260423T144515Z
DTEND:20251214T114500Z
END:VEVENT
END:VCALENDAR
