BEGIN:VCALENDAR
PRODID:-//spiritec//spiritec media library//EN
VERSION:2.0
METHOD:PUBLISH
BEGIN:VEVENT
UID:ical-2025-12-18-2606
DTSTART:20251218T080000Z
DTSTAMP:20260422T183630Z
LOCATION:Kleines Haus
SUMMARY:Momo
DESCRIPTION:Mainfranken Theater Würzburg\nKleines Haus\nTheaterstraße 21\n97070 Würzburg
CREATED:20260422T183630Z
DTEND:20251218T091000Z
END:VEVENT
END:VCALENDAR
