BEGIN:VCALENDAR
PRODID:-//spiritec//spiritec media library//EN
VERSION:2.0
METHOD:PUBLISH
BEGIN:VEVENT
UID:ical-2025-12-19-2610
DTSTART:20251219T183000Z
DTSTAMP:20260423T173810Z
LOCATION:Kleines Haus
SUMMARY:Tanzen bis in die Puppen
DESCRIPTION:Mainfranken Theater Würzburg\nKleines Haus\nTheaterstraße 21\n97070 Würzburg
CREATED:20260423T173810Z
DTEND:20251219T194500Z
END:VEVENT
END:VCALENDAR
