BEGIN:VCALENDAR
PRODID:-//spiritec//spiritec media library//EN
VERSION:2.0
METHOD:PUBLISH
BEGIN:VEVENT
UID:ical-2025-12-21-2614
DTSTART:20251221T170000Z
DTSTAMP:20260423T072453Z
LOCATION:Theaterfabrik Blaue Halle
SUMMARY:Anatevka
DESCRIPTION:Theaterfabrik Blaue Halle\nc/o va-Q-tec AG\nAlfred-Nobel-Straße 33\n97080 Würzburg
CREATED:20260423T072453Z
DTEND:20251221T193000Z
END:VEVENT
END:VCALENDAR
