BEGIN:VCALENDAR
PRODID:-//spiritec//spiritec media library//EN
VERSION:2.0
METHOD:PUBLISH
BEGIN:VEVENT
UID:ical-2025-12-23-2616
DTSTART:20251223T183000Z
DTSTAMP:20260422T192106Z
LOCATION:Theaterfabrik Blaue Halle
SUMMARY:Eros
DESCRIPTION:Theaterfabrik Blaue Halle\nc/o va-Q-tec AG\nAlfred-Nobel-Straße 33\n97080 Würzburg
CREATED:20260422T192106Z
DTEND:20251223T201500Z
END:VEVENT
END:VCALENDAR
