BEGIN:VCALENDAR
PRODID:-//spiritec//spiritec media library//EN
VERSION:2.0
METHOD:PUBLISH
BEGIN:VEVENT
UID:ical-2025-12-25-2617
DTSTART:20251225T170000Z
DTSTAMP:20260422T214735Z
LOCATION:Probebühne
SUMMARY:Jeeps
DESCRIPTION:Mainfranken Theater Würzburg\nProbebühne\nTheaterstraße 21\n97070 Würzburg
CREATED:20260422T214735Z
DTEND:20251225T183000Z
END:VEVENT
END:VCALENDAR
