BEGIN:VCALENDAR
PRODID:-//spiritec//spiritec media library//EN
VERSION:2.0
METHOD:PUBLISH
BEGIN:VEVENT
UID:ical-2026-01-13-2642
DTSTART:20260113T183000Z
DTSTAMP:20260420T232601Z
LOCATION:Theaterfabrik Blaue Halle
SUMMARY:Im weißen Rössl
DESCRIPTION:Theaterfabrik Blaue Halle\nc/o va-Q-tec AG\nAlfred-Nobel-Straße 33\n97080 Würzburg
CREATED:20260420T232601Z
DTEND:20260113T211500Z
END:VEVENT
END:VCALENDAR
