BEGIN:VCALENDAR
PRODID:-//spiritec//spiritec media library//EN
VERSION:2.0
METHOD:PUBLISH
BEGIN:VEVENT
UID:ical-2026-01-14-2643
DTSTART:20260114T183000Z
DTSTAMP:20260419T125629Z
LOCATION:Probebühne
SUMMARY:Jeeps
DESCRIPTION:Mainfranken Theater Würzburg\nProbebühne\nTheaterstraße 21\n97070 Würzburg
CREATED:20260419T125629Z
DTEND:20260114T225900Z
END:VEVENT
END:VCALENDAR
