BEGIN:VCALENDAR
PRODID:-//spiritec//spiritec media library//EN
VERSION:2.0
METHOD:PUBLISH
BEGIN:VEVENT
UID:ical-2026-01-22-2648
DTSTART:20260122T190000Z
DTSTAMP:20260422T215153Z
LOCATION:Großer Saal der Hochschule für Musik
SUMMARY:3. Sinfoniekonzert
DESCRIPTION:Hochschule für Musik\nHofstallstraße 6-8\n97070 Würzburg
CREATED:20260422T215153Z
DTEND:20260122T204000Z
END:VEVENT
END:VCALENDAR
