BEGIN:VCALENDAR
PRODID:-//spiritec//spiritec media library//EN
VERSION:2.0
METHOD:PUBLISH
BEGIN:VEVENT
UID:ical-2026-01-24-2651
DTSTART:20260124T183000Z
DTSTAMP:20260422T213623Z
LOCATION:Kleines Haus
SUMMARY:Der Fiskus
DESCRIPTION:Mainfranken Theater Würzburg\nKleines Haus\nTheaterstraße 21\n97070 Würzburg
CREATED:20260422T213623Z
DTEND:20260124T201500Z
END:VEVENT
END:VCALENDAR
