BEGIN:VCALENDAR
PRODID:-//spiritec//spiritec media library//EN
VERSION:2.0
METHOD:PUBLISH
BEGIN:VEVENT
UID:ical-2026-02-08-2660
DTSTART:20260208T170000Z
DTSTAMP:20260420T130207Z
LOCATION:Kleines Haus
SUMMARY:Briefe an ...
DESCRIPTION:Mainfranken Theater Würzburg\nKleines Haus\nTheaterstraße 21\n97070 Würzburg
CREATED:20260420T130207Z
DTEND:20260208T191500Z
END:VEVENT
END:VCALENDAR
