BEGIN:VCALENDAR
PRODID:-//spiritec//spiritec media library//EN
VERSION:2.0
METHOD:PUBLISH
BEGIN:VEVENT
UID:ical-2026-02-15-2662
DTSTART:20260215T170000Z
DTSTAMP:20260422T223342Z
LOCATION:Kleines Haus
SUMMARY:Die Dreigroschenoper
DESCRIPTION:Mainfranken Theater Würzburg\nKleines Haus\nTheaterstraße 21\n97070 Würzburg
CREATED:20260422T223342Z
DTEND:20260215T195500Z
END:VEVENT
END:VCALENDAR
