BEGIN:VCALENDAR
PRODID:-//spiritec//spiritec media library//EN
VERSION:2.0
METHOD:PUBLISH
BEGIN:VEVENT
UID:ical-2026-02-14-2663
DTSTART:20260214T183000Z
DTSTAMP:20260419T154957Z
LOCATION:Theaterfabrik Blaue Halle
SUMMARY:Im weißen Rössl
DESCRIPTION:Theaterfabrik Blaue Halle\nc/o va-Q-tec AG\nAlfred-Nobel-Straße 33\n97080 Würzburg
CREATED:20260419T154957Z
DTEND:20260214T211500Z
END:VEVENT
END:VCALENDAR
