BEGIN:VCALENDAR
PRODID:-//spiritec//spiritec media library//EN
VERSION:2.0
METHOD:PUBLISH
BEGIN:VEVENT
UID:ical-2026-02-14-2666
DTSTART:20260214T183000Z
DTSTAMP:20260423T012016Z
LOCATION:Probebühne
SUMMARY:Das Rathaus - Liebe Leute
DESCRIPTION:Mainfranken Theater Würzburg\nProbebühne\nTheaterstraße 21\n97070 Würzburg
CREATED:20260423T012016Z
DTEND:20260214T195000Z
END:VEVENT
END:VCALENDAR
