BEGIN:VCALENDAR
PRODID:-//spiritec//spiritec media library//EN
VERSION:2.0
METHOD:PUBLISH
BEGIN:VEVENT
UID:ical-2026-02-21-2669
DTSTART:20260221T183000Z
DTSTAMP:20260422T174013Z
LOCATION:Kleines Haus
SUMMARY:Die Dreigroschenoper
DESCRIPTION:Mainfranken Theater Würzburg\nKleines Haus\nTheaterstraße 21\n97070 Würzburg
CREATED:20260422T174013Z
DTEND:20260221T212500Z
END:VEVENT
END:VCALENDAR
