BEGIN:VCALENDAR
PRODID:-//spiritec//spiritec media library//EN
VERSION:2.0
METHOD:PUBLISH
BEGIN:VEVENT
UID:ical-2026-02-22-2670
DTSTART:20260222T140000Z
DTSTAMP:20260420T155225Z
LOCATION:Probebühne
SUMMARY:Was Wanda will
DESCRIPTION:Mainfranken Theater Würzburg\nProbebühne\nTheaterstraße 21\n97070 Würzburg
CREATED:20260420T155225Z
DTEND:20260222T153000Z
END:VEVENT
END:VCALENDAR
