BEGIN:VCALENDAR
PRODID:-//spiritec//spiritec media library//EN
VERSION:2.0
METHOD:PUBLISH
BEGIN:VEVENT
UID:ical-2026-03-07-2678
DTSTART:20260307T183000Z
DTSTAMP:20260419T205418Z
LOCATION:Theaterfabrik Blaue Halle
SUMMARY:Fidelio
DESCRIPTION:Theaterfabrik Blaue Halle\nc/o va-Q-tec AG\nAlfred-Nobel-Straße 33\n97080 Würzburg
CREATED:20260419T205418Z
DTEND:20260307T210500Z
END:VEVENT
END:VCALENDAR
