BEGIN:VCALENDAR
PRODID:-//spiritec//spiritec media library//EN
VERSION:2.0
METHOD:PUBLISH
BEGIN:VEVENT
UID:ical-2026-03-12-2681
DTSTART:20260312T190000Z
DTSTAMP:20260423T015049Z
LOCATION:Großer Saal der Hochschule für Musik
SUMMARY:4. Sinfoniekonzert
DESCRIPTION:Hochschule für Musik\nHofstallstraße 6-8\n97070 Würzburg
CREATED:20260423T015049Z
DTEND:20260312T225900Z
END:VEVENT
END:VCALENDAR
