BEGIN:VCALENDAR
PRODID:-//spiritec//spiritec media library//EN
VERSION:2.0
METHOD:PUBLISH
BEGIN:VEVENT
UID:ical-2026-03-13-2682
DTSTART:20260313T183000Z
DTSTAMP:20260420T155616Z
LOCATION:Kleines Haus
SUMMARY:Briefe an ...
DESCRIPTION:Mainfranken Theater Würzburg\nKleines Haus\nTheaterstraße 21\n97070 Würzburg
CREATED:20260420T155616Z
DTEND:20260313T204500Z
END:VEVENT
END:VCALENDAR
