BEGIN:VCALENDAR
PRODID:-//spiritec//spiritec media library//EN
VERSION:2.0
METHOD:PUBLISH
BEGIN:VEVENT
UID:ical-2026-03-29-2696
DTSTART:20260329T090000Z
DTSTAMP:20260422T225449Z
LOCATION:Kammermusiksaal der Hochschule für Musik
SUMMARY:4. Kammerkonzert
DESCRIPTION:Kammermusiksaal der Hochschule für Musik\nHofstraße 13\n97070 Würzburg
CREATED:20260422T225449Z
DTEND:20260329T103000Z
END:VEVENT
END:VCALENDAR
