BEGIN:VCALENDAR
PRODID:-//spiritec//spiritec media library//EN
VERSION:2.0
METHOD:PUBLISH
BEGIN:VEVENT
UID:ical-2026-04-09-2703
DTSTART:20260409T180000Z
DTSTAMP:20260422T215207Z
LOCATION:Großer Saal der Hochschule für Musik
SUMMARY:5. Sinfoniekonzert
DESCRIPTION:Hochschule für Musik\nHofstallstraße 6-8\n97070 Würzburg
CREATED:20260422T215207Z
DTEND:20260409T193500Z
END:VEVENT
END:VCALENDAR
