BEGIN:VCALENDAR
PRODID:-//spiritec//spiritec media library//EN
VERSION:2.0
METHOD:PUBLISH
BEGIN:VEVENT
UID:ical-2026-04-10-2705
DTSTART:20260410T180000Z
DTSTAMP:20260422T215153Z
LOCATION:Großer Saal der Hochschule für Musik
SUMMARY:5. Sinfoniekonzert
DESCRIPTION:Hochschule für Musik\nHofstallstraße 6-8\n97070 Würzburg
CREATED:20260422T215153Z
DTEND:20260410T193500Z
END:VEVENT
END:VCALENDAR
