BEGIN:VCALENDAR
PRODID:-//spiritec//spiritec media library//EN
VERSION:2.0
METHOD:PUBLISH
BEGIN:VEVENT
UID:ical-2026-04-19-2710
DTSTART:20260419T160000Z
DTSTAMP:20260420T005756Z
LOCATION:Probebühne
SUMMARY:Das Klima (no pressure)
DESCRIPTION:Mainfranken Theater Würzburg\nProbebühne\nTheaterstraße 21\n97070 Würzburg
CREATED:20260420T005756Z
DTEND:20260419T172000Z
END:VEVENT
END:VCALENDAR
