BEGIN:VCALENDAR
PRODID:-//spiritec//spiritec media library//EN
VERSION:2.0
METHOD:PUBLISH
BEGIN:VEVENT
UID:ical-2026-04-24-2717
DTSTART:20260424T173000Z
DTSTAMP:20260421T171105Z
LOCATION:Kleines Haus
SUMMARY:Drei Schwestern
DESCRIPTION:Mainfranken Theater Würzburg\nKleines Haus\nTheaterstraße 21\n97070 Würzburg
CREATED:20260421T171105Z
DTEND:20260424T195500Z
END:VEVENT
END:VCALENDAR
