BEGIN:VCALENDAR
PRODID:-//spiritec//spiritec media library//EN
VERSION:2.0
METHOD:PUBLISH
BEGIN:VEVENT
UID:ical-2026-04-26-2720
DTSTART:20260426T160000Z
DTSTAMP:20260422T013834Z
LOCATION:Theaterfabrik Blaue Halle
SUMMARY:Im weißen Rössl
DESCRIPTION:Theaterfabrik Blaue Halle\nc/o va-Q-tec AG\nAlfred-Nobel-Straße 33\n97080 Würzburg
CREATED:20260422T013834Z
DTEND:20260426T184500Z
END:VEVENT
END:VCALENDAR
