BEGIN:VCALENDAR
PRODID:-//spiritec//spiritec media library//EN
VERSION:2.0
METHOD:PUBLISH
BEGIN:VEVENT
UID:ical-2026-05-02-2724
DTSTART:20260502T173000Z
DTSTAMP:20260420T031343Z
LOCATION:Kleines Haus
SUMMARY:Drei Schwestern
DESCRIPTION:Mainfranken Theater Würzburg\nKleines Haus\nTheaterstraße 21\n97070 Würzburg
CREATED:20260420T031343Z
DTEND:20260502T195500Z
END:VEVENT
END:VCALENDAR
