BEGIN:VCALENDAR
PRODID:-//spiritec//spiritec media library//EN
VERSION:2.0
METHOD:PUBLISH
BEGIN:VEVENT
UID:ical-2026-05-31-2753
DTSTART:20260531T160000Z
DTSTAMP:20260422T175044Z
LOCATION:Theaterfabrik Blaue Halle
SUMMARY:Vox et Spiritus
DESCRIPTION:Theaterfabrik Blaue Halle\nc/o va-Q-tec AG\nAlfred-Nobel-Straße 33\n97080 Würzburg
CREATED:20260422T175044Z
DTEND:20260531T181000Z
END:VEVENT
END:VCALENDAR
