BEGIN:VCALENDAR
PRODID:-//spiritec//spiritec media library//EN
VERSION:2.0
METHOD:PUBLISH
BEGIN:VEVENT
UID:ical-2026-06-03-2757
DTSTART:20260603T173000Z
DTSTAMP:20260422T220046Z
LOCATION:Kleines Haus
SUMMARY:Drei Schwestern
DESCRIPTION:Mainfranken Theater Würzburg\nKleines Haus\nTheaterstraße 21\n97070 Würzburg
CREATED:20260422T220046Z
DTEND:20260603T195500Z
END:VEVENT
END:VCALENDAR
