BEGIN:VCALENDAR
PRODID:-//spiritec//spiritec media library//EN
VERSION:2.0
METHOD:PUBLISH
BEGIN:VEVENT
UID:ical-2026-06-05-2758
DTSTART:20260605T173000Z
DTSTAMP:20260420T201207Z
LOCATION:Theaterfabrik Blaue Halle
SUMMARY:Fidelio
DESCRIPTION:Theaterfabrik Blaue Halle\nc/o va-Q-tec AG\nAlfred-Nobel-Straße 33\n97080 Würzburg
CREATED:20260420T201207Z
DTEND:20260605T201500Z
END:VEVENT
END:VCALENDAR
