BEGIN:VCALENDAR
PRODID:-//spiritec//spiritec media library//EN
VERSION:2.0
METHOD:PUBLISH
BEGIN:VEVENT
UID:ical-2026-06-28-2781
DTSTART:20260628T080000Z
DTSTAMP:20260421T235502Z
LOCATION:Eingangsfoyer
SUMMARY:Babykonzerte
DESCRIPTION:
CREATED:20260421T235502Z
DTEND:20260628T084500Z
END:VEVENT
END:VCALENDAR
