BEGIN:VCALENDAR
PRODID:-//spiritec//spiritec media library//EN
VERSION:2.0
METHOD:PUBLISH
BEGIN:VEVENT
UID:ical-2025-12-31-2814
DTSTART:20251231T183000Z
DTSTAMP:20260422T185006Z
LOCATION:Kleines Haus
SUMMARY:Jeeps
DESCRIPTION:Mainfranken Theater Würzburg\nKleines Haus\nTheaterstraße 21\n97070 Würzburg
CREATED:20260422T185006Z
DTEND:20251231T200000Z
END:VEVENT
END:VCALENDAR
